BEGIN:VCALENDAR
VERSION:2.0
PRODID:-//Tukios.com/
BEGIN:VEVENT
UID:931c731a-60e2-49c8-8bc5-619d2a9f9414@www.hartmanhughesfuneralhome.com
DTSTAMP:20260424T213133Z
DTSTART:20260425T150000Z
DTEND:20260425T170000Z
SUMMARY:Visitation
DESCRIPTION:
URL:https://www.hartmanhughesfuneralhome.com/obituaries/karen-hobgood
LOCATION: 412 Beulah Ave  Tylertown MS 39667
GEO:31.1151526;-90.1361693
END:VEVENT
END:VCALENDAR