BEGIN:VCALENDAR
VERSION:2.0
PRODID:-//Tukios.com/
BEGIN:VEVENT
UID:36783acc-de1d-4d2c-beb6-8b161193895f@www.hartmanhughesfuneralhome.com
DTSTAMP:20260424T213029Z
DTSTART:20260425T170000Z
DTEND:20260425T180000Z
SUMMARY:Funeral Service
DESCRIPTION:
URL:https://www.hartmanhughesfuneralhome.com/obituaries/karen-hobgood
LOCATION: 412 Beulah Ave  Tylertown MS 39667
GEO:31.1151526;-90.1361693
END:VEVENT
END:VCALENDAR