BEGIN:VCALENDAR
VERSION:2.0
PRODID:-//Tukios.com/
BEGIN:VEVENT
UID:f7d39f6d-f89d-42d4-b797-1a409c54b942@www.hartmanhughesfuneralhome.com
DTSTAMP:20260424T212553Z
DTSTART:20260425T174500Z
DTEND:20260425T184500Z
SUMMARY:Graveside Service
DESCRIPTION:
URL:https://www.hartmanhughesfuneralhome.com/obituaries/karen-hobgood
LOCATION:Hobgood Family Cemetery Hobgood Road  TYLERTOWN MS 39667
GEO:31.0275554;-90.036822
END:VEVENT
END:VCALENDAR